BEGIN:VCALENDAR
PRODID:-//Microsoft Corporation//Outlook 12.0 MIMEDIR//EN
VERSION:2.0
CALSCALE:GREGORIAN
BEGIN:VEVENT
UID: ac6c9daf-7140-4bbd-98b0-663e21927131
SUMMARY:Loovtööde kaitsmine
DTSTAMP:20260601T081500
DTSTART:20260601T081500
DTEND:20260601T100000
LOCATION:
DESCRIPTION: <p>8. klass kaitseb, 7. klass vaatab ja kuulab</p><p><strong>Link: </strong>https://ylejoe.ee/et/sundmuste-kalender/loovtoode-kaitsmine-1</p><p><strong>Hind: </strong></p>
STATUS:CONFIRMED
SEQUENCE:3
X-ALT-DESC;FMTTYPE=text/html:<p>8. klass kaitseb, 7. klass vaatab ja kuulab</p><p><strong>Link: </strong>https://ylejoe.ee/et/sundmuste-kalender/loovtoode-kaitsmine-1</p><p><strong>Hind: </strong></p>
X-MICROSOFT-CDO-BUSYSTATUS:OOF
X-MICROSOFT-CDO-IMPORTANCE:1
X-MICROSOFT-DISALLOW-COUNTER:FALSE
X-MS-OLK-ALLOWEXTERNCHECK:TRUE
X-MS-OLK-CONFTYPE:0
X-MICROSOFT-CDO-ALLDAYEVENT:
X-MICROSOFT-MSNCALENDAR-ALLDAYEVENT:
END:VEVENT
END:VCALENDAR